BEGIN:VCALENDAR
VERSION:2.0
PRODID:-//hacksw/handcal//NONSGML v1.0//EN
CALSCALE:GREGORIAN
BEGIN:VEVENT
DTEND:20221025T230000Z
UID:69ed938af3ac7
DTSTAMP:20260426T052442Z
LOCATION:8680 Mürzzuschlag 
DESCRIPTION:
URL;VALUE=URI:
SUMMARY:Mürzer Sparkassen Halb- und Viertelmarathon mit Hobbylauf 
DTSTART:20221025T230000Z
END:VEVENT
END:VCALENDAR
An internal server error occurred.