BEGIN:VCALENDAR
VERSION:2.0
PRODID:-//hacksw/handcal//NONSGML v1.0//EN
CALSCALE:GREGORIAN
BEGIN:VEVENT
DTEND:20220910T230000Z
UID:69e9567bd67eb
DTSTAMP:20260423T001507Z
LOCATION:67547 Worms
DESCRIPTION:
URL;VALUE=URI:
SUMMARY:Nibelungenlauf Worms
DTSTART:20220910T230000Z
END:VEVENT
END:VCALENDAR
An internal server error occurred.