BEGIN:VCALENDAR
VERSION:2.0
PRODID:-//hacksw/handcal//NONSGML v1.0//EN
CALSCALE:GREGORIAN
BEGIN:VEVENT
DTEND:20220527T230000Z
UID:69ed86ebed3f6
DTSTAMP:20260426T043051Z
LOCATION:5623 Schwarzach/Pongau 
DESCRIPTION:Berglauf

URL;VALUE=URI:
SUMMARY:Schwarzacher Lauffest - Frühlingslauf – Ultratrail   
DTSTART:20220527T230000Z
END:VEVENT
END:VCALENDAR
An internal server error occurred.