BEGIN:VCALENDAR
VERSION:2.0
PRODID:-//hacksw/handcal//NONSGML v1.0//EN
CALSCALE:GREGORIAN
BEGIN:VEVENT
DTEND:20221008T230000Z
UID:69e93d29b1748
DTSTAMP:20260422T222705Z
LOCATION:5600 Eindhoven

DESCRIPTION:
URL;VALUE=URI:
SUMMARY:De Lage Landen Marathon Eindhoven  
DTSTART:20221008T230000Z
END:VEVENT
END:VCALENDAR
An internal server error occurred.