BEGIN:VCALENDAR
VERSION:2.0
PRODID:-//hacksw/handcal//NONSGML v1.0//EN
CALSCALE:GREGORIAN
BEGIN:VEVENT
DTEND:20220827T230000Z
UID:69e859e0989db
DTSTAMP:20260422T061720Z
LOCATION:47051 Duisburg
DESCRIPTION:
URL;VALUE=URI:
SUMMARY:IRONMAN 70.3 Duisburg
DTSTART:20220827T230000Z
END:VEVENT
END:VCALENDAR
An internal server error occurred.