BEGIN:VCALENDAR
VERSION:2.0
PRODID:-//hacksw/handcal//NONSGML v1.0//EN
CALSCALE:GREGORIAN
BEGIN:VEVENT
DTEND:20220702T230000Z
UID:69e956a14e62a
DTSTAMP:20260423T001545Z
LOCATION:11111 Rio de Janeiro
DESCRIPTION:
URL;VALUE=URI:
SUMMARY:IRONMAN 70.3 Rio de Janeiro
DTSTART:20220702T230000Z
END:VEVENT
END:VCALENDAR
An internal server error occurred.