BEGIN:VCALENDAR
VERSION:2.0
PRODID:-//hacksw/handcal//NONSGML v1.0//EN
CALSCALE:GREGORIAN
BEGIN:VEVENT
DTEND:20220528T230000Z
UID:69e9569b3e31e
DTSTAMP:20260423T001539Z
LOCATION:69242 Kraichgau

DESCRIPTION:The olympic distance on the legendary circuit.

URL;VALUE=URI:
SUMMARY:IRONMAN 70.3 Kraichgau     
DTSTART:20220528T230000Z
END:VEVENT
END:VCALENDAR
An internal server error occurred.