BEGIN:VCALENDAR
VERSION:2.0
PRODID:-//hacksw/handcal//NONSGML v1.0//EN
CALSCALE:GREGORIAN
BEGIN:VEVENT
DTEND:20220709T230000Z
UID:69e74195f38d2
DTSTAMP:20260421T102125Z
LOCATION:10000 Vitoria-Gasteiz\,
DESCRIPTION:
URL;VALUE=URI:
SUMMARY:IRONMAN Vitoria-Gasteiz
DTSTART:20220709T230000Z
END:VEVENT
END:VCALENDAR
An internal server error occurred.