BEGIN:VCALENDAR
VERSION:2.0
PRODID:-//hacksw/handcal//NONSGML v1.0//EN
CALSCALE:GREGORIAN
BEGIN:VEVENT
DTEND:20220709T230000Z
UID:69e6c9edeccb4
DTSTAMP:20260421T015053Z
LOCATION:1000 Thun 
DESCRIPTION:
URL;VALUE=URI:
SUMMARY:IRONMAN Switzerland Thun
DTSTART:20220709T230000Z
END:VEVENT
END:VCALENDAR
An internal server error occurred.