BEGIN:VCALENDAR
VERSION:2.0
PRODID:-//hacksw/handcal//NONSGML v1.0//EN
CALSCALE:GREGORIAN
BEGIN:VEVENT
DTEND:20200529T230000Z
UID:69e5bb2abc63e
DTSTAMP:20260420T063538Z
LOCATION:35509 Lanzarote

DESCRIPTION:
URL;VALUE=URI:
SUMMARY:IRONMAN Lanzarote   
DTSTART:20200529T230000Z
END:VEVENT
END:VCALENDAR
An internal server error occurred.