BEGIN:VCALENDAR
VERSION:2.0
PRODID:-//hacksw/handcal//NONSGML v1.0//EN
CALSCALE:GREGORIAN
BEGIN:VEVENT
DTEND:20220423T230000Z
UID:69e59b5a01ee3
DTSTAMP:20260420T041954Z
LOCATION:1000 Irland
DESCRIPTION:
URL;VALUE=URI:
SUMMARY:Connemara Marathon     
DTSTART:20220423T230000Z
END:VEVENT
END:VCALENDAR
An internal server error occurred.