BEGIN:VCALENDAR
VERSION:2.0
PRODID:-//hacksw/handcal//NONSGML v1.0//EN
CALSCALE:GREGORIAN
BEGIN:VEVENT
DTEND:20221008T230000Z
UID:69e74195845dd
DTSTAMP:20260421T102125Z
LOCATION:78199 Bräunlingen

DESCRIPTION:
URL;VALUE=URI:
SUMMARY:Int. Schwarzwald-Marathon   
DTSTART:20221008T230000Z
END:VEVENT
END:VCALENDAR
An internal server error occurred.