BEGIN:VCALENDAR
VERSION:2.0
PRODID:-//hacksw/handcal//NONSGML v1.0//EN
CALSCALE:GREGORIAN
BEGIN:VEVENT
DTEND:20220617T230000Z
UID:69ecaee9229c3
DTSTAMP:20260425T130913Z
LOCATION:7111 Parndorf 
DESCRIPTION:
URL;VALUE=URI:
SUMMARY:Int. Parndorfer Straßenlauf und Nordic Walking Bewerb   
DTSTART:20220617T230000Z
END:VEVENT
END:VCALENDAR
An internal server error occurred.