BEGIN:VCALENDAR
VERSION:2.0
PRODID:-//hacksw/handcal//NONSGML v1.0//EN
CALSCALE:GREGORIAN
BEGIN:VEVENT
DTEND:20220803T230000Z
UID:69ed8fc6dae2f
DTSTAMP:20260426T050838Z
LOCATION:6391 Fieberbrunn 
DESCRIPTION:
URL;VALUE=URI:
SUMMARY:KAT 100 - Österreichs längster Ultra Trail 
DTSTART:20220803T230000Z
END:VEVENT
END:VCALENDAR
An internal server error occurred.