BEGIN:VCALENDAR
VERSION:2.0
PRODID:-//hacksw/handcal//NONSGML v1.0//EN
CALSCALE:GREGORIAN
BEGIN:VEVENT
DTEND:20220506T230000Z
UID:69ed0394cec2b
DTSTAMP:20260425T191028Z
LOCATION:4040 Linz
DESCRIPTION:
URL;VALUE=URI:
SUMMARY:Magdaman - 11. Magdaleninger Ortslauf  
DTSTART:20220506T230000Z
END:VEVENT
END:VCALENDAR
An internal server error occurred.