BEGIN:VCALENDAR
VERSION:2.0
PRODID:-//hacksw/handcal//NONSGML v1.0//EN
CALSCALE:GREGORIAN
BEGIN:VEVENT
DTEND:20230114T230000Z
UID:69ebd6b7a4f01
DTSTAMP:20260424T214647Z
LOCATION:5710 Kaprun - Zell am See 
DESCRIPTION:
URL;VALUE=URI:
SUMMARY:Spartan -  Kaprun - Zell am See 14. bis 15.01.23
DTSTART:20230113T230000Z
END:VEVENT
END:VCALENDAR
An internal server error occurred.