BEGIN:VCALENDAR
VERSION:2.0
PRODID:-//hacksw/handcal//NONSGML v1.0//EN
CALSCALE:GREGORIAN
BEGIN:VEVENT
DTEND:20220114T230000Z
UID:69ed8fc63f325
DTSTAMP:20260426T050838Z
LOCATION:5710 Kaprun - Zell am See 
DESCRIPTION:
URL;VALUE=URI:
SUMMARY:Spartan -  Kaprun - Zell am See 14. bis 15.01.22 (abgesagt)
DTSTART:20220113T230000Z
END:VEVENT
END:VCALENDAR
An internal server error occurred.