BEGIN:VCALENDAR
VERSION:2.0
PRODID:-//hacksw/handcal//NONSGML v1.0//EN
CALSCALE:GREGORIAN
BEGIN:VEVENT
DTEND:20210625T230000Z
UID:69ea2326036f9
DTSTAMP:20260423T144822Z
LOCATION:8490 Bad Radkersburg
DESCRIPTION:Der heißeste Laufevent im Süden der Steiermark!

URL;VALUE=URI:
SUMMARY:Parkthermen-Wüstenlauf Bad Radkersburg
DTSTART:20210625T230000Z
END:VEVENT
END:VCALENDAR
An internal server error occurred.