BEGIN:VCALENDAR
VERSION:2.0
PRODID:-//hacksw/handcal//NONSGML v1.0//EN
CALSCALE:GREGORIAN
BEGIN:VEVENT
DTEND:20210828T230000Z
UID:69e75d606860e
DTSTAMP:20260421T122000Z
LOCATION:35099 Burgwald
DESCRIPTION:
URL;VALUE=URI:
SUMMARY:Burgwald Märchen Marathon
DTSTART:20210828T230000Z
END:VEVENT
END:VCALENDAR
An internal server error occurred.