BEGIN:VCALENDAR
VERSION:2.0
PRODID:-//hacksw/handcal//NONSGML v1.0//EN
CALSCALE:GREGORIAN
BEGIN:VEVENT
DTEND:20220708T230000Z
UID:69e73ac47f530
DTSTAMP:20260421T095220Z
LOCATION:95632 Wunsiedel
DESCRIPTION:
URL;VALUE=URI:
SUMMARY:Fichtelgebirgsmarathon  
DTSTART:20220708T230000Z
END:VEVENT
END:VCALENDAR
An internal server error occurred.