BEGIN:VCALENDAR
VERSION:2.0
PRODID:-//hacksw/handcal//NONSGML v1.0//EN
CALSCALE:GREGORIAN
BEGIN:VEVENT
DTEND:20210528T230000Z
UID:69eac01942921
DTSTAMP:20260424T015801Z
LOCATION:6441 Umhausen
DESCRIPTION:
URL;VALUE=URI:
SUMMARY:Stuiben Trailrun 
DTSTART:20210528T230000Z
END:VEVENT
END:VCALENDAR
An internal server error occurred.