BEGIN:VCALENDAR
VERSION:2.0
PRODID:-//hacksw/handcal//NONSGML v1.0//EN
CALSCALE:GREGORIAN
BEGIN:VEVENT
DTEND:20210507T230000Z
UID:69ec96508b12e
DTSTAMP:20260425T112416Z
LOCATION:1020 Wien
DESCRIPTION:zählt zu Wien Läuft 2019 - Wien Läuft Ranking-Programmierung MaxFun Sports

URL;VALUE=URI:
SUMMARY:Stadion Center Lauf   
DTSTART:20210507T230000Z
END:VEVENT
END:VCALENDAR
An internal server error occurred.