BEGIN:VCALENDAR
VERSION:2.0
PRODID:-//hacksw/handcal//NONSGML v1.0//EN
CALSCALE:GREGORIAN
BEGIN:VEVENT
DTEND:20210827T230000Z
UID:69e93d3378e00
DTSTAMP:20260422T222715Z
LOCATION:2881 Trattenbach
DESCRIPTION:
URL;VALUE=URI:
SUMMARY:Alpkogellauf
DTSTART:20210827T230000Z
END:VEVENT
END:VCALENDAR
An internal server error occurred.