BEGIN:VCALENDAR
VERSION:2.0
PRODID:-//hacksw/handcal//NONSGML v1.0//EN
CALSCALE:GREGORIAN
BEGIN:VEVENT
DTEND:20210423T230000Z
UID:69e7e3e5dabe1
DTSTAMP:20260421T215357Z
LOCATION:2822 Pitten
DESCRIPTION:
URL;VALUE=URI:
SUMMARY:Pittener Abendlauf 
DTSTART:20210423T230000Z
END:VEVENT
END:VCALENDAR
An internal server error occurred.