BEGIN:VCALENDAR
VERSION:2.0
PRODID:-//hacksw/handcal//NONSGML v1.0//EN
CALSCALE:GREGORIAN
BEGIN:VEVENT
DTEND:20210417T230000Z
UID:69e5e23353dd3
DTSTAMP:20260420T092211Z
LOCATION:1000 Irland
DESCRIPTION:
URL;VALUE=URI:
SUMMARY:Connemara Marathon    
DTSTART:20210417T230000Z
END:VEVENT
END:VCALENDAR
An internal server error occurred.