BEGIN:VCALENDAR
VERSION:2.0
PRODID:-//hacksw/handcal//NONSGML v1.0//EN
CALSCALE:GREGORIAN
BEGIN:VEVENT
DTEND:20210701T210000Z
UID:69e9952309c80
DTSTAMP:20260423T044227Z
LOCATION:5020 Salzburg
DESCRIPTION:
URL;VALUE=URI:
SUMMARY:Herzlauf Salzburg (abgesagt)
DTSTART:20210701T163000Z
END:VEVENT
END:VCALENDAR
An internal server error occurred.