BEGIN:VCALENDAR
VERSION:2.0
PRODID:-//hacksw/handcal//NONSGML v1.0//EN
CALSCALE:GREGORIAN
BEGIN:VEVENT
DTEND:20200404T230000Z
UID:69e63069d3f57
DTSTAMP:20260420T145553Z
LOCATION:Manchester

DESCRIPTION:
URL;VALUE=URI:
SUMMARY:ASICS Greather Manchester Marathon   
DTSTART:20200404T230000Z
END:VEVENT
END:VCALENDAR
An internal server error occurred.