BEGIN:VCALENDAR
VERSION:2.0
PRODID:-//hacksw/handcal//NONSGML v1.0//EN
CALSCALE:GREGORIAN
BEGIN:VEVENT
DTEND:20220520T230000Z
UID:69e58cf502736
DTSTAMP:20260420T031829Z
LOCATION:35509 Lanzarote

DESCRIPTION:
URL;VALUE=URI:
SUMMARY:IRONMAN Lanzarote  
DTSTART:20220520T230000Z
END:VEVENT
END:VCALENDAR
An internal server error occurred.