BEGIN:VCALENDAR
VERSION:2.0
PRODID:-//hacksw/handcal//NONSGML v1.0//EN
CALSCALE:GREGORIAN
BEGIN:VEVENT
DTEND:20200925T230000Z
UID:69ec33ec3a934
DTSTAMP:20260425T042428Z
LOCATION:2734 Puchberg am Schneeberg
DESCRIPTION:"Mensch gegen Maschine" - seit ihrem 100-jährigen Jubiläum im Jahr 1997 kämpft die Zahnradbahn alljährlich Ende September gegen hunderte BergläuferInnen um die Bestzeit auf den Hochschneeberg.

 

URL;VALUE=URI:
SUMMARY:Raiffeisen Schneeberglauf mit Schneeberg Trail Powered by Salomon  
DTSTART:20200925T230000Z
END:VEVENT
END:VCALENDAR
An internal server error occurred.