BEGIN:VCALENDAR
VERSION:2.0
PRODID:-//hacksw/handcal//NONSGML v1.0//EN
CALSCALE:GREGORIAN
BEGIN:VEVENT
DTEND:20200222T230000Z
UID:69ebd3e6cf948
DTSTAMP:20260424T213446Z
LOCATION:1000 Davao
DESCRIPTION:
URL;VALUE=URI:
SUMMARY:5150 Triathlon Series Davao
DTSTART:20200222T230000Z
END:VEVENT
END:VCALENDAR
An internal server error occurred.