BEGIN:VCALENDAR
VERSION:2.0
PRODID:-//hacksw/handcal//NONSGML v1.0//EN
CALSCALE:GREGORIAN
BEGIN:VEVENT
DTEND:20200521T230000Z
UID:69eaf650e89f3
DTSTAMP:20260424T054920Z
LOCATION:6441 Umhausen
DESCRIPTION:
URL;VALUE=URI:
SUMMARY:Stuiben Run - ABGESAGT lt. Veranstalter am 8.5.20
DTSTART:20200521T230000Z
END:VEVENT
END:VCALENDAR
An internal server error occurred.