BEGIN:VCALENDAR
VERSION:2.0
PRODID:-//hacksw/handcal//NONSGML v1.0//EN
CALSCALE:GREGORIAN
BEGIN:VEVENT
DTEND:20200430T230000Z
UID:69ec158026f71
DTSTAMP:20260425T021440Z
LOCATION:4924 Waldzell 
DESCRIPTION:
URL;VALUE=URI:
SUMMARY:Innviertler Frauenlauf u. Genuss Walk  
DTSTART:20200430T230000Z
END:VEVENT
END:VCALENDAR
An internal server error occurred.