BEGIN:VCALENDAR
VERSION:2.0
PRODID:-//hacksw/handcal//NONSGML v1.0//EN
CALSCALE:GREGORIAN
BEGIN:VEVENT
DTEND:20201010T230000Z
UID:69e859def0d67
DTSTAMP:20260422T061718Z
LOCATION:5600 Eindhoven

DESCRIPTION:
URL;VALUE=URI:
SUMMARY:De Lage Landen Marathon Eindhoven 
DTSTART:20201010T230000Z
END:VEVENT
END:VCALENDAR
An internal server error occurred.