BEGIN:VCALENDAR
VERSION:2.0
PRODID:-//hacksw/handcal//NONSGML v1.0//EN
CALSCALE:GREGORIAN
BEGIN:VEVENT
DTEND:20201010T230000Z
UID:69eae0f71319e
DTSTAMP:20260424T041815Z
LOCATION:77901 Victoria

DESCRIPTION:
URL;VALUE=URI:
SUMMARY:GoodLife Fitness Victoria Marathon  
DTSTART:20201010T230000Z
END:VEVENT
END:VCALENDAR
An internal server error occurred.