BEGIN:VCALENDAR
VERSION:2.0
PRODID:-//hacksw/handcal//NONSGML v1.0//EN
CALSCALE:GREGORIAN
BEGIN:VEVENT
DTEND:20200515T230000Z
UID:69ed483ebe807
DTSTAMP:20260426T000326Z
LOCATION:1000 Cavallino
DESCRIPTION:INTERNATIONALER EVENT

URL;VALUE=URI:
SUMMARY:Moonlight Half Marathon Cavallino Jesolo   
DTSTART:20200515T230000Z
END:VEVENT
END:VCALENDAR
An internal server error occurred.