BEGIN:VCALENDAR
VERSION:2.0
PRODID:-//hacksw/handcal//NONSGML v1.0//EN
CALSCALE:GREGORIAN
BEGIN:VEVENT
DTEND:20201024T230000Z
UID:69ece7aace9bd
DTSTAMP:20260425T171122Z
LOCATION:60314 Frankfurt am Main
DESCRIPTION:Deutsche Veranstaltung

URL;VALUE=URI:
SUMMARY:BMW Frankfurt Marathon   
DTSTART:20201024T230000Z
END:VEVENT
END:VCALENDAR
An internal server error occurred.