BEGIN:VCALENDAR
VERSION:2.0
PRODID:-//hacksw/handcal//NONSGML v1.0//EN
CALSCALE:GREGORIAN
BEGIN:VEVENT
DTEND:20200911T230000Z
UID:69ed53bcaaaa7
DTSTAMP:20260426T005228Z
LOCATION:2431 Enzersdorf
DESCRIPTION:Abgesagt lt. Veranstalter am 14.7.20

URL;VALUE=URI:
SUMMARY:Enzersdorfer Herbstlauf - ABGESAGT
DTSTART:20200911T230000Z
END:VEVENT
END:VCALENDAR
An internal server error occurred.