BEGIN:VCALENDAR
VERSION:2.0
PRODID:-//hacksw/handcal//NONSGML v1.0//EN
CALSCALE:GREGORIAN
BEGIN:VEVENT
DTEND:20200228T230000Z
UID:69ec23cf75242
DTSTAMP:20260425T031543Z
LOCATION:6370 Kitzbühel
DESCRIPTION:3. Station  Berglauf

URL;VALUE=URI:
SUMMARY:Streif Vertical Up - die Schlacht am Hahnenkamm   
DTSTART:20200228T230000Z
END:VEVENT
END:VCALENDAR
An internal server error occurred.