BEGIN:VCALENDAR
VERSION:2.0
PRODID:-//hacksw/handcal//NONSGML v1.0//EN
CALSCALE:GREGORIAN
BEGIN:VEVENT
DTEND:20200418T230000Z
UID:69e4f2820148a
DTSTAMP:20260419T161930Z
LOCATION:1000 Irland
DESCRIPTION:
URL;VALUE=URI:
SUMMARY:Connemara Marathon   
DTSTART:20200418T230000Z
END:VEVENT
END:VCALENDAR
An internal server error occurred.