BEGIN:VCALENDAR
VERSION:2.0
PRODID:-//hacksw/handcal//NONSGML v1.0//EN
CALSCALE:GREGORIAN
BEGIN:VEVENT
DTEND:20200821T230000Z
UID:69e73ac568c70
DTSTAMP:20260421T095221Z
LOCATION:63800 Auvergne

DESCRIPTION:
URL;VALUE=URI:
SUMMARY:IRONMAN 70.3 Vichy    
DTSTART:20200821T230000Z
END:VEVENT
END:VCALENDAR
An internal server error occurred.