BEGIN:VCALENDAR
VERSION:2.0
PRODID:-//hacksw/handcal//NONSGML v1.0//EN
CALSCALE:GREGORIAN
BEGIN:VEVENT
DTEND:20200606T230000Z
UID:69e8ecd243cd4
DTSTAMP:20260422T164418Z
LOCATION:69242 Kraichgau

DESCRIPTION:The olympic distance on the legendary circuit.

URL;VALUE=URI:
SUMMARY:Sparkasse IRONMAN 70.3 Kraichgau    
DTSTART:20200606T230000Z
END:VEVENT
END:VCALENDAR
An internal server error occurred.