BEGIN:VCALENDAR
VERSION:2.0
PRODID:-//hacksw/handcal//NONSGML v1.0//EN
CALSCALE:GREGORIAN
BEGIN:VEVENT
DTEND:20200815T230000Z
UID:69e684c487b65
DTSTAMP:20260420T205548Z
LOCATION:1050 Copenhagen

DESCRIPTION:
URL;VALUE=URI:
SUMMARY:KMD IRONMAN Copenhagen   
DTSTART:20200815T230000Z
END:VEVENT
END:VCALENDAR
An internal server error occurred.