BEGIN:VCALENDAR
VERSION:2.0
PRODID:-//hacksw/handcal//NONSGML v1.0//EN
CALSCALE:GREGORIAN
BEGIN:VEVENT
DTEND:20200320T230000Z
UID:69eb1040a2843
DTSTAMP:20260424T074000Z
LOCATION:8330 Leitersdorf im Raabtal 
DESCRIPTION:
URL;VALUE=URI:
SUMMARY:Int. Vulkanland - Frühlingslauf Leitersdorf
DTSTART:20200320T230000Z
END:VEVENT
END:VCALENDAR
An internal server error occurred.