BEGIN:VCALENDAR
VERSION:2.0
PRODID:-//hacksw/handcal//NONSGML v1.0//EN
CALSCALE:GREGORIAN
BEGIN:VEVENT
DTEND:20200911T230000Z
UID:69ed688345b23
DTSTAMP:20260426T022107Z
LOCATION:7141 Podersdorf
DESCRIPTION:KEINE ZEITNEHMUNG !

VERSCHIEBUNG lt. Veranstalter am 6.4.20 - verschiebung auf 12. September um 11:30 Uhr nach Podersdorf (vormals Wien und am 27.06.2020)

Absage lt. Veranstalter am 24.7.20

URL;VALUE=URI:
SUMMARY:X-Cross Run Ladies Challenge PODERSDORF (vormals Wien) - ABGESAGT
DTSTART:20200911T230000Z
END:VEVENT
END:VCALENDAR
An internal server error occurred.