BEGIN:VCALENDAR
VERSION:2.0
PRODID:-//hacksw/handcal//NONSGML v1.0//EN
CALSCALE:GREGORIAN
BEGIN:VEVENT
DTEND:20190921T230000Z
UID:69e7e3df95bf5
DTSTAMP:20260421T215351Z
LOCATION:21762 Otterndorf
DESCRIPTION:
URL;VALUE=URI:
SUMMARY: Küstenmarathon Otterndorf 
DTSTART:20190921T230000Z
END:VEVENT
END:VCALENDAR
An internal server error occurred.