BEGIN:VCALENDAR
VERSION:2.0
PRODID:-//hacksw/handcal//NONSGML v1.0//EN
CALSCALE:GREGORIAN
BEGIN:VEVENT
DTEND:20190920T230000Z
UID:69e7d991ed723
DTSTAMP:20260421T210953Z
LOCATION:08309 Eibenstock 
DESCRIPTION:
URL;VALUE=URI:
SUMMARY:Drei-Talsperren-Marathon 
DTSTART:20190920T230000Z
END:VEVENT
END:VCALENDAR
An internal server error occurred.