BEGIN:VCALENDAR
VERSION:2.0
PRODID:-//hacksw/handcal//NONSGML v1.0//EN
CALSCALE:GREGORIAN
BEGIN:VEVENT
DTEND:20190705T230000Z
UID:69e720fa0a427
DTSTAMP:20260421T080218Z
LOCATION:95632 Wunsiedel
DESCRIPTION:
URL;VALUE=URI:
SUMMARY:Fichtelgebirgsmarathon 
DTSTART:20190705T230000Z
END:VEVENT
END:VCALENDAR
An internal server error occurred.