BEGIN:VCALENDAR
VERSION:2.0
PRODID:-//hacksw/handcal//NONSGML v1.0//EN
CALSCALE:GREGORIAN
BEGIN:VEVENT
DTEND:20190927T230000Z
UID:69e6fdf34449f
DTSTAMP:20260421T053251Z
LOCATION:3652 Leiben\, Melk 
DESCRIPTION:
URL;VALUE=URI:
SUMMARY:WoidWetza Dirtrun 
DTSTART:20190927T230000Z
END:VEVENT
END:VCALENDAR
An internal server error occurred.