BEGIN:VCALENDAR
VERSION:2.0
PRODID:-//hacksw/handcal//NONSGML v1.0//EN
CALSCALE:GREGORIAN
BEGIN:VEVENT
DTEND:20190824T230000Z
UID:69eafa6488cd1
DTSTAMP:20260424T060644Z
LOCATION:3100 St. Pölten
DESCRIPTION:
URL;VALUE=URI:
SUMMARY:NÖ Frauenlauf in St. Pölten 
DTSTART:20190824T230000Z
END:VEVENT
END:VCALENDAR
An internal server error occurred.