BEGIN:VCALENDAR
VERSION:2.0
PRODID:-//hacksw/handcal//NONSGML v1.0//EN
CALSCALE:GREGORIAN
BEGIN:VEVENT
DTEND:20190524T230000Z
UID:69ed792435136
DTSTAMP:20260426T033204Z
LOCATION:9162 St. Johann/Rosental
DESCRIPTION:
URL;VALUE=URI:
SUMMARY:Lauf um den See - St. Johann im Rosental
DTSTART:20190524T230000Z
END:VEVENT
END:VCALENDAR
An internal server error occurred.